BEGIN:VCALENDAR
VERSION:2.0
PRODID:-//Musée du Verre d&#039;Argonne - ECPv6.15.14//NONSGML v1.0//EN
CALSCALE:GREGORIAN
METHOD:PUBLISH
X-WR-CALNAME:Musée du Verre d&#039;Argonne
X-ORIGINAL-URL:https://verre-argonne.org
X-WR-CALDESC:Évènements pour Musée du Verre d&#039;Argonne
REFRESH-INTERVAL;VALUE=DURATION:PT1H
X-Robots-Tag:noindex
X-PUBLISHED-TTL:PT1H
BEGIN:VTIMEZONE
TZID:Europe/Paris
BEGIN:DAYLIGHT
TZOFFSETFROM:+0100
TZOFFSETTO:+0200
TZNAME:CEST
DTSTART:20250330T010000
END:DAYLIGHT
BEGIN:STANDARD
TZOFFSETFROM:+0200
TZOFFSETTO:+0100
TZNAME:CET
DTSTART:20251026T010000
END:STANDARD
BEGIN:DAYLIGHT
TZOFFSETFROM:+0100
TZOFFSETTO:+0200
TZNAME:CEST
DTSTART:20260329T010000
END:DAYLIGHT
BEGIN:STANDARD
TZOFFSETFROM:+0200
TZOFFSETTO:+0100
TZNAME:CET
DTSTART:20261025T010000
END:STANDARD
BEGIN:DAYLIGHT
TZOFFSETFROM:+0100
TZOFFSETTO:+0200
TZNAME:CEST
DTSTART:20270328T010000
END:DAYLIGHT
BEGIN:STANDARD
TZOFFSETFROM:+0200
TZOFFSETTO:+0100
TZNAME:CET
DTSTART:20271031T010000
END:STANDARD
END:VTIMEZONE
BEGIN:VEVENT
DTSTART;TZID=Europe/Paris:20260523T210000
DTEND;TZID=Europe/Paris:20260523T230000
DTSTAMP:20260424T172818
CREATED:20260421T162758Z
LAST-MODIFIED:20260421T162758Z
UID:3850-1779570000-1779577200@verre-argonne.org
SUMMARY:Nuit des musées Conférence de Christopher KERMORVANT : "Intelligence Artificielle : une opportunité pour la découverte du patrimoine culturel"
DESCRIPTION:L’intelligence artificielle transforme aujourd’hui notre manière d’explorer le patrimoine culturel. À partir de projets concrets – recensements historiques\, manuscrits enluminés\, photographies anciennes ou archives – cette conférence montre comment ces technologies permettent de rendre des millions de documents accessibles\, lisibles et interrogeables. Loin des idées reçues\, l’IA apparaît ici comme une technologie au service du bien commun\, capable de transformer en profondeur notre accès aux archives et à la culture. \nChristopher Kermorvant\, Président et Directeur scientifique de TEKLIA\, est expert en intelligence artificielle appliquée à l’analyse de documents historiques et culturels. \nEntrée gratuite pour les adhérents et les moins de 16 ans
URL:https://verre-argonne.org/calendrier/nuit-des-musees-conference-de-christopher-kermorvant-intelligence-artificielle-une-opportunite-pour-la-decouverte-du-patrimoine-culturel/
LOCATION:Musée du Verre d’Argonne\, 64 rue Jules Bancelin\, Les Islettes\, Grand-Est\, 55120\, France
CATEGORIES:Conférences,Evènements au musée
ATTACH;FMTTYPE=image/png:https://verre-argonne.org/wp-content/uploads/2026/04/Molettes-Inrap-PictorIA-copie_all.png
ORGANIZER;CN="Amis du Verre d'Argonne":MAILTO:avargonne.sec@gmail.com
END:VEVENT
END:VCALENDAR