BEGIN:VCALENDAR
VERSION:2.0
PRODID:-//Musée du Verre d&#039;Argonne - ECPv6.15.14//NONSGML v1.0//EN
CALSCALE:GREGORIAN
METHOD:PUBLISH
X-WR-CALNAME:Musée du Verre d&#039;Argonne
X-ORIGINAL-URL:https://verre-argonne.org
X-WR-CALDESC:Évènements pour Musée du Verre d&#039;Argonne
REFRESH-INTERVAL;VALUE=DURATION:PT1H
X-Robots-Tag:noindex
X-PUBLISHED-TTL:PT1H
BEGIN:VTIMEZONE
TZID:Europe/Paris
BEGIN:DAYLIGHT
TZOFFSETFROM:+0100
TZOFFSETTO:+0200
TZNAME:CEST
DTSTART:20250330T010000
END:DAYLIGHT
BEGIN:STANDARD
TZOFFSETFROM:+0200
TZOFFSETTO:+0100
TZNAME:CET
DTSTART:20251026T010000
END:STANDARD
BEGIN:DAYLIGHT
TZOFFSETFROM:+0100
TZOFFSETTO:+0200
TZNAME:CEST
DTSTART:20260329T010000
END:DAYLIGHT
BEGIN:STANDARD
TZOFFSETFROM:+0200
TZOFFSETTO:+0100
TZNAME:CET
DTSTART:20261025T010000
END:STANDARD
BEGIN:DAYLIGHT
TZOFFSETFROM:+0100
TZOFFSETTO:+0200
TZNAME:CEST
DTSTART:20270328T010000
END:DAYLIGHT
BEGIN:STANDARD
TZOFFSETFROM:+0200
TZOFFSETTO:+0100
TZNAME:CET
DTSTART:20271031T010000
END:STANDARD
END:VTIMEZONE
BEGIN:VEVENT
DTSTART;TZID=Europe/Paris:20260321T143000
DTEND;TZID=Europe/Paris:20260321T163000
DTSTAMP:20260424T173639
CREATED:20260310T182022Z
LAST-MODIFIED:20260310T182022Z
UID:3817-1774103400-1774110600@verre-argonne.org
SUMMARY:Conférence Joëlle ROLLAND
DESCRIPTION:Pour découvrir tout sur bracelets\, perles et autres bijoux en verre gaulois\, et en lien avec ​l’exposition ​2026 au Musée \, ​Les Amis du Verre d’Argonne invit​ent  à la conférence donnée par Joëlle ROLLAND\,   archéologue et chercheuse au CNRS\, spécialiste du verre de l’époque celtique
URL:https://verre-argonne.org/calendrier/conference-joelle-rolland/
LOCATION:Salle de la Biesme 1 bis\, Chemin du Roy LES ISLETTES (55)\, Salle de la Biesme 1 bis\, Chemin du Roy\, LES ISLETTES (55)\, France
CATEGORIES:Conférences
ATTACH;FMTTYPE=image/jpeg:https://verre-argonne.org/wp-content/uploads/2024/02/affag_2026-bleu.jpg
ORGANIZER;CN="Amis du Verre d'Argonne":MAILTO:avargonne.sec@gmail.com
END:VEVENT
END:VCALENDAR